BEGIN:VCALENDAR
VERSION:2.0
PRODID:-//Econauta - ECPv6.13.2.1//NONSGML v1.0//EN
CALSCALE:GREGORIAN
METHOD:PUBLISH
X-ORIGINAL-URL:https://econauta.net
X-WR-CALDESC:Eventi per Econauta
REFRESH-INTERVAL;VALUE=DURATION:PT1H
X-Robots-Tag:noindex
X-PUBLISHED-TTL:PT1H
BEGIN:VTIMEZONE
TZID:UTC
BEGIN:STANDARD
TZOFFSETFROM:+0000
TZOFFSETTO:+0000
TZNAME:UTC
DTSTART:20240101T000000
END:STANDARD
END:VTIMEZONE
BEGIN:VEVENT
DTSTART;TZID=UTC:20241116T080000
DTEND;TZID=UTC:20241117T170000
DTSTAMP:20260423T220234
CREATED:20240912T152310Z
LAST-MODIFIED:20240913T075248Z
UID:6551-1731744000-1731862800@econauta.net
SUMMARY:Week-End Trekking - Le Vie dei Pastori e degli Antenati
DESCRIPTION:  \n  						\n																	\n					\n								\n				\n					\n		\n				\n			\n						\n				\n					Camminando nell'incanto dell'isola piatta				\n				\n				\n				\n					Avvolti nell’atmosfera onirica di Pianosa\, che sempre incanta con la luce abbagliante e gli sgargianti colori e sorprende con il fascino della sua storia millenaria.				\n				\n				\n				\n							\n			\n						\n		\n						\n				\n				\n						\n					\n			\n						\n				\n							\n\n						\n				\n								\n			\n			\n						\n\n									\n						\n							SCARICA IL PROGRAMMA						\n					\n				\n				\n			\n			\n		\n						\n				\n					\n		\n				\n			\n						\n				\n							\n\n						\n				\n								\n			\n			\n						\n\n									\n						\n							CONTATTACI PER INFO						\n					\n				\n				\n			\n			\n		\n						\n				\n					\n		\n					\n		\n					\n		\n					\n		\n				\n						\n					\n			\n						\n				\n					IL PROGRAMMA				\n				\n				\n						\n					\n			\n						\n				\n							\n							\n					\n													\n															\n								\n														\n												Giornata a Pianosa con Econauta\n					\n					Pianosa è una piccola zolla d’Africa proiettata nell’Arcipelago Toscano. La sua luce è Africana così come le sue rocce bianche e precarie. Anche le decadenti opere dell’uomo\, sgretolate da sole e salsedine richiamano al continente nero. Pianosa è un’Isola Piatta che regala una surreale dimensione di savana Africana circondata dal Mare. Isola dai contorni irreali\, che in primavera si arricchisce di fioriture mediterranee dalle infinite cromie cangianti\, che unite alle trasparenze assolute del suo mare\, rendono unica questa breve ma intensa esperienza. Respireremo silenzio\, macchia e salsedine. Ci sposteremo a piedi per percorrere le sue piatte strade bianche alla ricerca degli angoli più suggestivi e approfondirne la conoscenza camminando. \n				\n								\n						\n				\n					\n		\n				\n			\n						\n				\n							\n																			\n															\n							  \n  						\n																	\n					\n								\n				\n				\n				\n							\n																			\n															\n							  \n  						\n																	\n					\n								\n				\n				\n				\n							\n																			\n															\n							  \n  						\n																	\n					\n								\n				\n				\n				\n							\n																			\n															\n							  \n  						\n																	\n					\n								\n				\n					\n		\n					\n		\n				\n				\n							\n			\n						\n		\n						\n				\n				\n						\n					\n			\n						\n				\n							\n\n						\n				\n								\n			\n			\n						\n\n									\n						\n							PREZZO						\n					\n				\n				\n			\n			\n		\n						\n				\n				\n				\n									50€ a persona 								\n				\n					\n		\n				\n			\n						\n				\n							\n\n						\n				\n								\n			\n			\n						\n\n									\n						\n							LA QUOTA COMPRENDE						\n					\n				\n				\n			\n			\n		\n						\n				\n				\n				\n									Qualità e Privilegio e del piccolo gruppo max 8 partecipanti Guida Isolana esperta Assicurazione RC 								\n				\n					\n		\n				\n			\n						\n				\n							\n\n						\n				\n								\n			\n			\n						\n\n									\n						\n							LA QUOTA NON COMPRENDE						\n					\n				\n				\n			\n			\n		\n						\n				\n				\n				\n									Ticket passaggio barca e ingresso Parco (su richiesta) 								\n				\n					\n		\n					\n		\n				\n				\n							\n			\n						\n		\n						\n				\n				\n				\n					CONTATTI				\n				\n				\n				\n									Info e PrenotazioniMob +39 333 2653079Tel +39 0565 976707Mail: info@econauta.netwww.econauta.net in caso di condizioni meteo non adatte\, il percorso può essere modificato 								\n				\n				\n				\n					Abilita JavaScript nel browser per completare questo modulo.Nome *NomeCognomeEmail *TelefonoCommento o messaggio *Privacy Policy *AccettaDichiaro di aver letto ed accettato le norme sulla privacy di questo sito web Invia
URL:https://econauta.net/eventi/week-end-trekking-le-vie-dei-pastori-e-degli-antenati-3/
LOCATION:Isola d’Elba
CATEGORIES:Arcipelago Toscano,Isola d'Elba,Trekking
ATTACH;FMTTYPE=image/jpeg:https://econauta.net/wp-content/uploads/2022/01/IMG_9139-scaled.jpg
END:VEVENT
END:VCALENDAR