BEGIN:VCALENDAR
VERSION:2.0
PRODID:-//Econauta - ECPv6.13.2.1//NONSGML v1.0//EN
CALSCALE:GREGORIAN
METHOD:PUBLISH
X-WR-CALNAME:Econauta
X-ORIGINAL-URL:https://econauta.net
X-WR-CALDESC:Eventi per Econauta
REFRESH-INTERVAL;VALUE=DURATION:PT1H
X-Robots-Tag:noindex
X-PUBLISHED-TTL:PT1H
BEGIN:VTIMEZONE
TZID:UTC
BEGIN:STANDARD
TZOFFSETFROM:+0000
TZOFFSETTO:+0000
TZNAME:UTC
DTSTART:20260101T000000
END:STANDARD
END:VTIMEZONE
BEGIN:VEVENT
DTSTART;TZID=UTC:20260926T173000
DTEND;TZID=UTC:20261001T100000
DTSTAMP:20260423T193108
CREATED:20251114T154427Z
LAST-MODIFIED:20251114T154537Z
UID:8004-1790443800-1790848800@econauta.net
SUMMARY:GTE - Grande Traversata Elbana Trekking 26 Settembre-1 Ottobre
DESCRIPTION:  \n  						\n																	\n					\n								\n				\n					\n		\n				\n			\n						\n				\n					SULLA ROTTA DI BALENE E DELFINI. Avventura d’Alto Mare in Kayak. \nElba-Capraia-Corsica-Elba. 4 tappe 160 km				\n				\n				\n				\n					Una traversata in 4 tappe da Isola a Isola. un’Avventura in Mare aperto per chi ama le sfide\, nel pieno rispetto della Natura. 160 km di pagaiata dall’Elba a Capraia\, alla Corsica\, per ritornare all’Elba.				\n				\n				\n				\n							\n			\n						\n		\n						\n				\n				\n						\n					\n			\n						\n				\n							\n\n						\n				\n								\n			\n			\n						\n\n									\n						\n							SCARICA IL PROGRAMMA						\n					\n				\n				\n			\n			\n		\n						\n				\n					\n		\n				\n			\n						\n				\n							\n\n						\n				\n								\n			\n			\n						\n\n									\n						\n							CONTATTACI PER INFO						\n					\n				\n				\n			\n			\n		\n						\n				\n					\n		\n					\n		\n					\n		\n					\n		\n				\n						\n					\n			\n						\n				\n					IL PROGRAMMA				\n				\n				\n				\n									  								\n				\n				\n						\n					\n			\n						\n				\n							\n							\n					\n													\n															\n								\n														\n												Giorno 1 - Arrivo all’Elba\n					\n					Preparazione dei kayak. Pernottamento in barca. \n				\n							\n					\n													\n															\n								\n														\n												Giorno 2 - Tappa 1 Elba-Capraia\n					\n					S.Andrea-Cala Rossa-Porto Capraia 43 KmOre 8\,00 partenza dalla spiaggia di Sant’Andrea pagaiando fino a raggiungere Cala Rossa a Capraia\, navigazione sottocosta lato sud fino al Porto dell’Isola. Pernottamento in barca. \n				\n							\n					\n													\n															\n								\n														\n												Giorno 3 - Tappa 2 Capraia-Corsica\n					\n					Porto Capraia-Macinaggio 43 KmDal porto navigazione sottocosta lato nord fino alla Punta dell Manza\, poi traversata fino a raggiungere Capo Corso e navigazione sottocosta fino a Macinaggio. Pernottamento in barca. \n				\n							\n					\n													\n															\n								\n														\n												Giorno 4 - Tappa 3 Corsica\n					\n					Macinaggio-Sisco 19 KmNavigazione sottocosta a Capo Corso. Pernottamento in barca. \n				\n							\n					\n													\n															\n								\n														\n												Giorno 5 - Tappa 4 Corsica-Elba\n					\n					Sisco-Pomonte 53 KmLa tappa più impegnativa che ci riporterà all’Isola d’Elba \n				\n								\n						\n				\n					\n		\n				\n			\n						\n				\n							\n																			\n															\n							  \n  						\n																	\n					\n								\n				\n				\n				\n							\n																			\n															\n							  \n  						\n																	\n					\n								\n				\n				\n				\n							\n																			\n															\n							  \n  						\n																	\n					\n								\n				\n					\n		\n					\n		\n				\n				\n							\n			\n						\n		\n						\n				\n				\n						\n					\n			\n						\n				\n							\n\n						\n				\n								\n			\n			\n						\n\n									\n						\n							PREZZO						\n					\n				\n				\n			\n			\n		\n						\n				\n				\n				\n									600 euro a persona. Min 4  partecipanti 								\n				\n					\n		\n				\n			\n						\n				\n							\n\n						\n				\n								\n			\n			\n						\n\n									\n						\n							LA QUOTA COMPRENDE						\n					\n				\n				\n			\n			\n		\n						\n				\n				\n				\n									il kayak e la relativa attrezzatura\,la guida in kayak\,barca appoggio per le traversate e pernottamenti. 								\n				\n					\n		\n				\n			\n						\n				\n							\n\n						\n				\n								\n			\n			\n						\n\n									\n						\n							LA QUOTA NON COMPRENDE						\n					\n				\n				\n			\n			\n		\n						\n				\n				\n				\n									Tutti i pasti 								\n				\n					\n		\n					\n		\n				\n				\n							\n			\n						\n		\n						\n				\n				\n				\n					CONTATTI				\n				\n				\n				\n									Info e PrenotazioniMob +39 333 2653079Tel +39 0565 976707Mail: info@econauta.netwww.econauta.net il programma è soggetto alle condizioni meteo e può subire variazioni. A cura di Agenzia Viaggi Brignetti 								\n				\n				\n				\n							\n						\n				\n				\n				\n					Abilita JavaScript nel browser per completare questo modulo.Nome *NomeCognomeEmail *TelefonoCommento o messaggio *Privacy Policy *AccettaDichiaro di aver letto ed accettato le norme sulla privacy di questo sito web Invia
URL:https://econauta.net/eventi/gte-grande-traversata-elbana-trekking-26-settembre-1-ottobre/
LOCATION:Isola d’Elba
CATEGORIES:Arcipelago Toscano,Isola d'Elba,Trekking
ATTACH;FMTTYPE=image/jpeg:https://econauta.net/wp-content/uploads/2025/11/TREKKING-GTE-COLLAGE.jpg
END:VEVENT
BEGIN:VEVENT
DTSTART;TZID=UTC:20261001T120000
DTEND;TZID=UTC:20261004T150000
DTSTAMP:20260423T193108
CREATED:20260213T163100Z
LAST-MODIFIED:20260213T163100Z
UID:8338-1790856000-1791126000@econauta.net
SUMMARY:ISOLA d’ELBA in BIKE 4 giorni 1 - 4 Ottobre
DESCRIPTION:  \n  						\n																	\n					\n								\n				\n					\n		\n				\n			\n						\n				\n					SULLA ROTTA DI BALENE E DELFINI. Avventura d’Alto Mare in Kayak. \nElba-Capraia-Corsica-Elba. 4 tappe 160 km				\n				\n				\n				\n					Una traversata in 4 tappe da Isola a Isola. un’Avventura in Mare aperto per chi ama le sfide\, nel pieno rispetto della Natura. 160 km di pagaiata dall’Elba a Capraia\, alla Corsica\, per ritornare all’Elba.				\n				\n				\n				\n							\n			\n						\n		\n						\n				\n				\n						\n					\n			\n						\n				\n							\n\n						\n				\n								\n			\n			\n						\n\n									\n						\n							SCARICA IL PROGRAMMA						\n					\n				\n				\n			\n			\n		\n						\n				\n					\n		\n				\n			\n						\n				\n							\n\n						\n				\n								\n			\n			\n						\n\n									\n						\n							CONTATTACI PER INFO						\n					\n				\n				\n			\n			\n		\n						\n				\n					\n		\n					\n		\n					\n		\n					\n		\n				\n						\n					\n			\n						\n				\n					IL PROGRAMMA				\n				\n				\n				\n									  								\n				\n				\n						\n					\n			\n						\n				\n							\n							\n					\n													\n															\n								\n														\n												Giorno 1 - Arrivo all’Elba\n					\n					Preparazione dei kayak. Pernottamento in barca. \n				\n							\n					\n													\n															\n								\n														\n												Giorno 2 - Tappa 1 Elba-Capraia\n					\n					S.Andrea-Cala Rossa-Porto Capraia 43 KmOre 8\,00 partenza dalla spiaggia di Sant’Andrea pagaiando fino a raggiungere Cala Rossa a Capraia\, navigazione sottocosta lato sud fino al Porto dell’Isola. Pernottamento in barca. \n				\n							\n					\n													\n															\n								\n														\n												Giorno 3 - Tappa 2 Capraia-Corsica\n					\n					Porto Capraia-Macinaggio 43 KmDal porto navigazione sottocosta lato nord fino alla Punta dell Manza\, poi traversata fino a raggiungere Capo Corso e navigazione sottocosta fino a Macinaggio. Pernottamento in barca. \n				\n							\n					\n													\n															\n								\n														\n												Giorno 4 - Tappa 3 Corsica\n					\n					Macinaggio-Sisco 19 KmNavigazione sottocosta a Capo Corso. Pernottamento in barca. \n				\n							\n					\n													\n															\n								\n														\n												Giorno 5 - Tappa 4 Corsica-Elba\n					\n					Sisco-Pomonte 53 KmLa tappa più impegnativa che ci riporterà all’Isola d’Elba \n				\n								\n						\n				\n					\n		\n				\n			\n						\n				\n							\n																			\n															\n							  \n  						\n																	\n					\n								\n				\n				\n				\n							\n																			\n															\n							  \n  						\n																	\n					\n								\n				\n				\n				\n							\n																			\n															\n							  \n  						\n																	\n					\n								\n				\n					\n		\n					\n		\n				\n				\n							\n			\n						\n		\n						\n				\n				\n						\n					\n			\n						\n				\n							\n\n						\n				\n								\n			\n			\n						\n\n									\n						\n							PREZZO						\n					\n				\n				\n			\n			\n		\n						\n				\n				\n				\n									600 euro a persona. Min 4  partecipanti 								\n				\n					\n		\n				\n			\n						\n				\n							\n\n						\n				\n								\n			\n			\n						\n\n									\n						\n							LA QUOTA COMPRENDE						\n					\n				\n				\n			\n			\n		\n						\n				\n				\n				\n									il kayak e la relativa attrezzatura\,la guida in kayak\,barca appoggio per le traversate e pernottamenti. 								\n				\n					\n		\n				\n			\n						\n				\n							\n\n						\n				\n								\n			\n			\n						\n\n									\n						\n							LA QUOTA NON COMPRENDE						\n					\n				\n				\n			\n			\n		\n						\n				\n				\n				\n									Tutti i pasti 								\n				\n					\n		\n					\n		\n				\n				\n							\n			\n						\n		\n						\n				\n				\n				\n					CONTATTI				\n				\n				\n				\n									Info e PrenotazioniMob +39 333 2653079Tel +39 0565 976707Mail: info@econauta.netwww.econauta.net il programma è soggetto alle condizioni meteo e può subire variazioni. A cura di Agenzia Viaggi Brignetti 								\n				\n				\n				\n							\n						\n				\n				\n				\n					Abilita JavaScript nel browser per completare questo modulo.Nome *NomeCognomeEmail *TelefonoCommento o messaggio *Privacy Policy *AccettaDichiaro di aver letto ed accettato le norme sulla privacy di questo sito web Invia
URL:https://econauta.net/eventi/isola-delba-in-bike-4-giorni-1-4-ottobre/
LOCATION:Isola d’Elba
CATEGORIES:Arcipelago Toscano,BIKE,Isola d'Elba
ATTACH;FMTTYPE=image/jpeg:https://econauta.net/wp-content/uploads/2026/01/TESTATA-e1770999719501.jpg
END:VEVENT
BEGIN:VEVENT
DTSTART;TZID=UTC:20261001T173000
DTEND;TZID=UTC:20261008T100000
DTSTAMP:20260423T193109
CREATED:20251114T154111Z
LAST-MODIFIED:20251114T154209Z
UID:7999-1790875800-1791453600@econauta.net
SUMMARY:Il Cammino Elbano® 1-8 Ottobre
DESCRIPTION:  \n  						\n																	\n					\n								\n				\n					\n		\n				\n			\n						\n				\n					SULLA ROTTA DI BALENE E DELFINI. Avventura d’Alto Mare in Kayak. \nElba-Capraia-Corsica-Elba. 4 tappe 160 km				\n				\n				\n				\n					Una traversata in 4 tappe da Isola a Isola. un’Avventura in Mare aperto per chi ama le sfide\, nel pieno rispetto della Natura. 160 km di pagaiata dall’Elba a Capraia\, alla Corsica\, per ritornare all’Elba.				\n				\n				\n				\n							\n			\n						\n		\n						\n				\n				\n						\n					\n			\n						\n				\n							\n\n						\n				\n								\n			\n			\n						\n\n									\n						\n							SCARICA IL PROGRAMMA						\n					\n				\n				\n			\n			\n		\n						\n				\n					\n		\n				\n			\n						\n				\n							\n\n						\n				\n								\n			\n			\n						\n\n									\n						\n							CONTATTACI PER INFO						\n					\n				\n				\n			\n			\n		\n						\n				\n					\n		\n					\n		\n					\n		\n					\n		\n				\n						\n					\n			\n						\n				\n					IL PROGRAMMA				\n				\n				\n				\n									  								\n				\n				\n						\n					\n			\n						\n				\n							\n							\n					\n													\n															\n								\n														\n												Giorno 1 - Arrivo all’Elba\n					\n					Preparazione dei kayak. Pernottamento in barca. \n				\n							\n					\n													\n															\n								\n														\n												Giorno 2 - Tappa 1 Elba-Capraia\n					\n					S.Andrea-Cala Rossa-Porto Capraia 43 KmOre 8\,00 partenza dalla spiaggia di Sant’Andrea pagaiando fino a raggiungere Cala Rossa a Capraia\, navigazione sottocosta lato sud fino al Porto dell’Isola. Pernottamento in barca. \n				\n							\n					\n													\n															\n								\n														\n												Giorno 3 - Tappa 2 Capraia-Corsica\n					\n					Porto Capraia-Macinaggio 43 KmDal porto navigazione sottocosta lato nord fino alla Punta dell Manza\, poi traversata fino a raggiungere Capo Corso e navigazione sottocosta fino a Macinaggio. Pernottamento in barca. \n				\n							\n					\n													\n															\n								\n														\n												Giorno 4 - Tappa 3 Corsica\n					\n					Macinaggio-Sisco 19 KmNavigazione sottocosta a Capo Corso. Pernottamento in barca. \n				\n							\n					\n													\n															\n								\n														\n												Giorno 5 - Tappa 4 Corsica-Elba\n					\n					Sisco-Pomonte 53 KmLa tappa più impegnativa che ci riporterà all’Isola d’Elba \n				\n								\n						\n				\n					\n		\n				\n			\n						\n				\n							\n																			\n															\n							  \n  						\n																	\n					\n								\n				\n				\n				\n							\n																			\n															\n							  \n  						\n																	\n					\n								\n				\n				\n				\n							\n																			\n															\n							  \n  						\n																	\n					\n								\n				\n					\n		\n					\n		\n				\n				\n							\n			\n						\n		\n						\n				\n				\n						\n					\n			\n						\n				\n							\n\n						\n				\n								\n			\n			\n						\n\n									\n						\n							PREZZO						\n					\n				\n				\n			\n			\n		\n						\n				\n				\n				\n									600 euro a persona. Min 4  partecipanti 								\n				\n					\n		\n				\n			\n						\n				\n							\n\n						\n				\n								\n			\n			\n						\n\n									\n						\n							LA QUOTA COMPRENDE						\n					\n				\n				\n			\n			\n		\n						\n				\n				\n				\n									il kayak e la relativa attrezzatura\,la guida in kayak\,barca appoggio per le traversate e pernottamenti. 								\n				\n					\n		\n				\n			\n						\n				\n							\n\n						\n				\n								\n			\n			\n						\n\n									\n						\n							LA QUOTA NON COMPRENDE						\n					\n				\n				\n			\n			\n		\n						\n				\n				\n				\n									Tutti i pasti 								\n				\n					\n		\n					\n		\n				\n				\n							\n			\n						\n		\n						\n				\n				\n				\n					CONTATTI				\n				\n				\n				\n									Info e PrenotazioniMob +39 333 2653079Tel +39 0565 976707Mail: info@econauta.netwww.econauta.net il programma è soggetto alle condizioni meteo e può subire variazioni. A cura di Agenzia Viaggi Brignetti 								\n				\n				\n				\n							\n						\n				\n				\n				\n					Abilita JavaScript nel browser per completare questo modulo.Nome *NomeCognomeEmail *TelefonoCommento o messaggio *Privacy Policy *AccettaDichiaro di aver letto ed accettato le norme sulla privacy di questo sito web Invia
URL:https://econauta.net/eventi/il-cammino-elbano-1-8-ottobre/
LOCATION:Isola d’Elba
CATEGORIES:Arcipelago Toscano,Isola d'Elba,Trekking
ATTACH;FMTTYPE=image/jpeg:https://econauta.net/wp-content/uploads/2025/02/001a.jpg
END:VEVENT
BEGIN:VEVENT
DTSTART;TZID=UTC:20261023T090000
DTEND;TZID=UTC:20261025T190000
DTSTAMP:20260423T193109
CREATED:20260117T114014Z
LAST-MODIFIED:20260304T191733Z
UID:8197-1792746000-1792954800@econauta.net
SUMMARY:GTE - La Grande Traversata Elbana 3 Tappe 23-25 Ottobre
DESCRIPTION:  \n  						\n																	\n					\n								\n				\n					\n		\n				\n			\n						\n				\n					SULLA ROTTA DI BALENE E DELFINI. Avventura d’Alto Mare in Kayak. \nElba-Capraia-Corsica-Elba. 4 tappe 160 km				\n				\n				\n				\n					Una traversata in 4 tappe da Isola a Isola. un’Avventura in Mare aperto per chi ama le sfide\, nel pieno rispetto della Natura. 160 km di pagaiata dall’Elba a Capraia\, alla Corsica\, per ritornare all’Elba.				\n				\n				\n				\n							\n			\n						\n		\n						\n				\n				\n						\n					\n			\n						\n				\n							\n\n						\n				\n								\n			\n			\n						\n\n									\n						\n							SCARICA IL PROGRAMMA						\n					\n				\n				\n			\n			\n		\n						\n				\n					\n		\n				\n			\n						\n				\n							\n\n						\n				\n								\n			\n			\n						\n\n									\n						\n							CONTATTACI PER INFO						\n					\n				\n				\n			\n			\n		\n						\n				\n					\n		\n					\n		\n					\n		\n					\n		\n				\n						\n					\n			\n						\n				\n					IL PROGRAMMA				\n				\n				\n				\n									  								\n				\n				\n						\n					\n			\n						\n				\n							\n							\n					\n													\n															\n								\n														\n												Giorno 1 - Arrivo all’Elba\n					\n					Preparazione dei kayak. Pernottamento in barca. \n				\n							\n					\n													\n															\n								\n														\n												Giorno 2 - Tappa 1 Elba-Capraia\n					\n					S.Andrea-Cala Rossa-Porto Capraia 43 KmOre 8\,00 partenza dalla spiaggia di Sant’Andrea pagaiando fino a raggiungere Cala Rossa a Capraia\, navigazione sottocosta lato sud fino al Porto dell’Isola. Pernottamento in barca. \n				\n							\n					\n													\n															\n								\n														\n												Giorno 3 - Tappa 2 Capraia-Corsica\n					\n					Porto Capraia-Macinaggio 43 KmDal porto navigazione sottocosta lato nord fino alla Punta dell Manza\, poi traversata fino a raggiungere Capo Corso e navigazione sottocosta fino a Macinaggio. Pernottamento in barca. \n				\n							\n					\n													\n															\n								\n														\n												Giorno 4 - Tappa 3 Corsica\n					\n					Macinaggio-Sisco 19 KmNavigazione sottocosta a Capo Corso. Pernottamento in barca. \n				\n							\n					\n													\n															\n								\n														\n												Giorno 5 - Tappa 4 Corsica-Elba\n					\n					Sisco-Pomonte 53 KmLa tappa più impegnativa che ci riporterà all’Isola d’Elba \n				\n								\n						\n				\n					\n		\n				\n			\n						\n				\n							\n																			\n															\n							  \n  						\n																	\n					\n								\n				\n				\n				\n							\n																			\n															\n							  \n  						\n																	\n					\n								\n				\n				\n				\n							\n																			\n															\n							  \n  						\n																	\n					\n								\n				\n					\n		\n					\n		\n				\n				\n							\n			\n						\n		\n						\n				\n				\n						\n					\n			\n						\n				\n							\n\n						\n				\n								\n			\n			\n						\n\n									\n						\n							PREZZO						\n					\n				\n				\n			\n			\n		\n						\n				\n				\n				\n									600 euro a persona. Min 4  partecipanti 								\n				\n					\n		\n				\n			\n						\n				\n							\n\n						\n				\n								\n			\n			\n						\n\n									\n						\n							LA QUOTA COMPRENDE						\n					\n				\n				\n			\n			\n		\n						\n				\n				\n				\n									il kayak e la relativa attrezzatura\,la guida in kayak\,barca appoggio per le traversate e pernottamenti. 								\n				\n					\n		\n				\n			\n						\n				\n							\n\n						\n				\n								\n			\n			\n						\n\n									\n						\n							LA QUOTA NON COMPRENDE						\n					\n				\n				\n			\n			\n		\n						\n				\n				\n				\n									Tutti i pasti 								\n				\n					\n		\n					\n		\n				\n				\n							\n			\n						\n		\n						\n				\n				\n				\n					CONTATTI				\n				\n				\n				\n									Info e PrenotazioniMob +39 333 2653079Tel +39 0565 976707Mail: info@econauta.netwww.econauta.net il programma è soggetto alle condizioni meteo e può subire variazioni. A cura di Agenzia Viaggi Brignetti 								\n				\n				\n				\n							\n						\n				\n				\n				\n					Abilita JavaScript nel browser per completare questo modulo.Nome *NomeCognomeEmail *TelefonoCommento o messaggio *Privacy Policy *AccettaDichiaro di aver letto ed accettato le norme sulla privacy di questo sito web Invia
URL:https://econauta.net/eventi/gte-la-grande-traversata-elbana-3-tappe-23-25-ottobre/
LOCATION:Isola d’Elba
CATEGORIES:Arcipelago Toscano,Isola d'Elba,Trekking
ATTACH;FMTTYPE=image/jpeg:https://econauta.net/wp-content/uploads/2026/01/001.jpg
END:VEVENT
BEGIN:VEVENT
DTSTART;TZID=UTC:20261205T120000
DTEND;TZID=UTC:20261208T150000
DTSTAMP:20260423T193109
CREATED:20260213T163244Z
LAST-MODIFIED:20260213T163244Z
UID:8340-1796472000-1796742000@econauta.net
SUMMARY:ISOLA d’ELBA in BIKE 4 giorni 5 - 8 Dicembre
DESCRIPTION:  \n  						\n																	\n					\n								\n				\n					\n		\n				\n			\n						\n				\n					SULLA ROTTA DI BALENE E DELFINI. Avventura d’Alto Mare in Kayak. \nElba-Capraia-Corsica-Elba. 4 tappe 160 km				\n				\n				\n				\n					Una traversata in 4 tappe da Isola a Isola. un’Avventura in Mare aperto per chi ama le sfide\, nel pieno rispetto della Natura. 160 km di pagaiata dall’Elba a Capraia\, alla Corsica\, per ritornare all’Elba.				\n				\n				\n				\n							\n			\n						\n		\n						\n				\n				\n						\n					\n			\n						\n				\n							\n\n						\n				\n								\n			\n			\n						\n\n									\n						\n							SCARICA IL PROGRAMMA						\n					\n				\n				\n			\n			\n		\n						\n				\n					\n		\n				\n			\n						\n				\n							\n\n						\n				\n								\n			\n			\n						\n\n									\n						\n							CONTATTACI PER INFO						\n					\n				\n				\n			\n			\n		\n						\n				\n					\n		\n					\n		\n					\n		\n					\n		\n				\n						\n					\n			\n						\n				\n					IL PROGRAMMA				\n				\n				\n				\n									  								\n				\n				\n						\n					\n			\n						\n				\n							\n							\n					\n													\n															\n								\n														\n												Giorno 1 - Arrivo all’Elba\n					\n					Preparazione dei kayak. Pernottamento in barca. \n				\n							\n					\n													\n															\n								\n														\n												Giorno 2 - Tappa 1 Elba-Capraia\n					\n					S.Andrea-Cala Rossa-Porto Capraia 43 KmOre 8\,00 partenza dalla spiaggia di Sant’Andrea pagaiando fino a raggiungere Cala Rossa a Capraia\, navigazione sottocosta lato sud fino al Porto dell’Isola. Pernottamento in barca. \n				\n							\n					\n													\n															\n								\n														\n												Giorno 3 - Tappa 2 Capraia-Corsica\n					\n					Porto Capraia-Macinaggio 43 KmDal porto navigazione sottocosta lato nord fino alla Punta dell Manza\, poi traversata fino a raggiungere Capo Corso e navigazione sottocosta fino a Macinaggio. Pernottamento in barca. \n				\n							\n					\n													\n															\n								\n														\n												Giorno 4 - Tappa 3 Corsica\n					\n					Macinaggio-Sisco 19 KmNavigazione sottocosta a Capo Corso. Pernottamento in barca. \n				\n							\n					\n													\n															\n								\n														\n												Giorno 5 - Tappa 4 Corsica-Elba\n					\n					Sisco-Pomonte 53 KmLa tappa più impegnativa che ci riporterà all’Isola d’Elba \n				\n								\n						\n				\n					\n		\n				\n			\n						\n				\n							\n																			\n															\n							  \n  						\n																	\n					\n								\n				\n				\n				\n							\n																			\n															\n							  \n  						\n																	\n					\n								\n				\n				\n				\n							\n																			\n															\n							  \n  						\n																	\n					\n								\n				\n					\n		\n					\n		\n				\n				\n							\n			\n						\n		\n						\n				\n				\n						\n					\n			\n						\n				\n							\n\n						\n				\n								\n			\n			\n						\n\n									\n						\n							PREZZO						\n					\n				\n				\n			\n			\n		\n						\n				\n				\n				\n									600 euro a persona. Min 4  partecipanti 								\n				\n					\n		\n				\n			\n						\n				\n							\n\n						\n				\n								\n			\n			\n						\n\n									\n						\n							LA QUOTA COMPRENDE						\n					\n				\n				\n			\n			\n		\n						\n				\n				\n				\n									il kayak e la relativa attrezzatura\,la guida in kayak\,barca appoggio per le traversate e pernottamenti. 								\n				\n					\n		\n				\n			\n						\n				\n							\n\n						\n				\n								\n			\n			\n						\n\n									\n						\n							LA QUOTA NON COMPRENDE						\n					\n				\n				\n			\n			\n		\n						\n				\n				\n				\n									Tutti i pasti 								\n				\n					\n		\n					\n		\n				\n				\n							\n			\n						\n		\n						\n				\n				\n				\n					CONTATTI				\n				\n				\n				\n									Info e PrenotazioniMob +39 333 2653079Tel +39 0565 976707Mail: info@econauta.netwww.econauta.net il programma è soggetto alle condizioni meteo e può subire variazioni. A cura di Agenzia Viaggi Brignetti 								\n				\n				\n				\n							\n						\n				\n				\n				\n					Abilita JavaScript nel browser per completare questo modulo.Nome *NomeCognomeEmail *TelefonoCommento o messaggio *Privacy Policy *AccettaDichiaro di aver letto ed accettato le norme sulla privacy di questo sito web Invia
URL:https://econauta.net/eventi/isola-delba-in-bike-4-giorni-5-8-dicembre/
LOCATION:Isola d’Elba
CATEGORIES:Arcipelago Toscano,BIKE,Isola d'Elba
ATTACH;FMTTYPE=image/jpeg:https://econauta.net/wp-content/uploads/2026/01/TESTATA-e1770999719501.jpg
END:VEVENT
END:VCALENDAR