BEGIN:VCALENDAR
VERSION:2.0
PRODID:-//Econauta - ECPv6.13.2.1//NONSGML v1.0//EN
CALSCALE:GREGORIAN
METHOD:PUBLISH
X-ORIGINAL-URL:https://econauta.net
X-WR-CALDESC:Eventi per Econauta
REFRESH-INTERVAL;VALUE=DURATION:PT1H
X-Robots-Tag:noindex
X-PUBLISHED-TTL:PT1H
BEGIN:VTIMEZONE
TZID:UTC
BEGIN:STANDARD
TZOFFSETFROM:+0000
TZOFFSETTO:+0000
TZNAME:UTC
DTSTART:20260101T000000
END:STANDARD
END:VTIMEZONE
BEGIN:VEVENT
DTSTART;TZID=UTC:20261023T090000
DTEND;TZID=UTC:20261025T190000
DTSTAMP:20260423T203021
CREATED:20260117T114014Z
LAST-MODIFIED:20260304T191733Z
UID:8197-1792746000-1792954800@econauta.net
SUMMARY:GTE - La Grande Traversata Elbana 3 Tappe 23-25 Ottobre
DESCRIPTION:  \n  						\n																	\n					\n								\n				\n					\n		\n				\n			\n						\n				\n					Camminando nell'incanto dell'isola piatta				\n				\n				\n				\n					Avvolti nell’atmosfera onirica di Pianosa\, che sempre incanta con la luce abbagliante e gli sgargianti colori e sorprende con il fascino della sua storia millenaria.				\n				\n				\n				\n							\n			\n						\n		\n						\n				\n				\n						\n					\n			\n						\n				\n							\n\n						\n				\n								\n			\n			\n						\n\n									\n						\n							SCARICA IL PROGRAMMA						\n					\n				\n				\n			\n			\n		\n						\n				\n					\n		\n				\n			\n						\n				\n							\n\n						\n				\n								\n			\n			\n						\n\n									\n						\n							CONTATTACI PER INFO						\n					\n				\n				\n			\n			\n		\n						\n				\n					\n		\n					\n		\n					\n		\n					\n		\n				\n						\n					\n			\n						\n				\n					IL PROGRAMMA				\n				\n				\n						\n					\n			\n						\n				\n							\n							\n					\n													\n															\n								\n														\n												Giornata a Pianosa con Econauta\n					\n					Pianosa è una piccola zolla d’Africa proiettata nell’Arcipelago Toscano. La sua luce è Africana così come le sue rocce bianche e precarie. Anche le decadenti opere dell’uomo\, sgretolate da sole e salsedine richiamano al continente nero. Pianosa è un’Isola Piatta che regala una surreale dimensione di savana Africana circondata dal Mare. Isola dai contorni irreali\, che in primavera si arricchisce di fioriture mediterranee dalle infinite cromie cangianti\, che unite alle trasparenze assolute del suo mare\, rendono unica questa breve ma intensa esperienza. Respireremo silenzio\, macchia e salsedine. Ci sposteremo a piedi per percorrere le sue piatte strade bianche alla ricerca degli angoli più suggestivi e approfondirne la conoscenza camminando. \n				\n								\n						\n				\n					\n		\n				\n			\n						\n				\n							\n																			\n															\n							  \n  						\n																	\n					\n								\n				\n				\n				\n							\n																			\n															\n							  \n  						\n																	\n					\n								\n				\n				\n				\n							\n																			\n															\n							  \n  						\n																	\n					\n								\n				\n				\n				\n							\n																			\n															\n							  \n  						\n																	\n					\n								\n				\n					\n		\n					\n		\n				\n				\n							\n			\n						\n		\n						\n				\n				\n						\n					\n			\n						\n				\n							\n\n						\n				\n								\n			\n			\n						\n\n									\n						\n							PREZZO						\n					\n				\n				\n			\n			\n		\n						\n				\n				\n				\n									50€ a persona 								\n				\n					\n		\n				\n			\n						\n				\n							\n\n						\n				\n								\n			\n			\n						\n\n									\n						\n							LA QUOTA COMPRENDE						\n					\n				\n				\n			\n			\n		\n						\n				\n				\n				\n									Qualità e Privilegio e del piccolo gruppo max 8 partecipanti Guida Isolana esperta Assicurazione RC 								\n				\n					\n		\n				\n			\n						\n				\n							\n\n						\n				\n								\n			\n			\n						\n\n									\n						\n							LA QUOTA NON COMPRENDE						\n					\n				\n				\n			\n			\n		\n						\n				\n				\n				\n									Ticket passaggio barca e ingresso Parco (su richiesta) 								\n				\n					\n		\n					\n		\n				\n				\n							\n			\n						\n		\n						\n				\n				\n				\n					CONTATTI				\n				\n				\n				\n									Info e PrenotazioniMob +39 333 2653079Tel +39 0565 976707Mail: info@econauta.netwww.econauta.net in caso di condizioni meteo non adatte\, il percorso può essere modificato 								\n				\n				\n				\n					Abilita JavaScript nel browser per completare questo modulo.Nome *NomeCognomeEmail *TelefonoCommento o messaggio *Privacy Policy *AccettaDichiaro di aver letto ed accettato le norme sulla privacy di questo sito web Invia
URL:https://econauta.net/eventi/gte-la-grande-traversata-elbana-3-tappe-23-25-ottobre/
LOCATION:Isola d’Elba
CATEGORIES:Arcipelago Toscano,Isola d'Elba,Trekking
ATTACH;FMTTYPE=image/jpeg:https://econauta.net/wp-content/uploads/2026/01/001.jpg
END:VEVENT
BEGIN:VEVENT
DTSTART;TZID=UTC:20261029T130000
DTEND;TZID=UTC:20261107T100000
DTSTAMP:20260423T203021
CREATED:20251114T162920Z
LAST-MODIFIED:20251114T163559Z
UID:8014-1793278800-1794045600@econauta.net
SUMMARY:Tunisia Romana\, Viaggio Archeologico in Terra d'Africa
DESCRIPTION:  \n  						\n																	\n					\n								\n				\n					\n		\n				\n			\n						\n				\n					Camminando nell'incanto dell'isola piatta				\n				\n				\n				\n					Avvolti nell’atmosfera onirica di Pianosa\, che sempre incanta con la luce abbagliante e gli sgargianti colori e sorprende con il fascino della sua storia millenaria.				\n				\n				\n				\n							\n			\n						\n		\n						\n				\n				\n						\n					\n			\n						\n				\n							\n\n						\n				\n								\n			\n			\n						\n\n									\n						\n							SCARICA IL PROGRAMMA						\n					\n				\n				\n			\n			\n		\n						\n				\n					\n		\n				\n			\n						\n				\n							\n\n						\n				\n								\n			\n			\n						\n\n									\n						\n							CONTATTACI PER INFO						\n					\n				\n				\n			\n			\n		\n						\n				\n					\n		\n					\n		\n					\n		\n					\n		\n				\n						\n					\n			\n						\n				\n					IL PROGRAMMA				\n				\n				\n						\n					\n			\n						\n				\n							\n							\n					\n													\n															\n								\n														\n												Giornata a Pianosa con Econauta\n					\n					Pianosa è una piccola zolla d’Africa proiettata nell’Arcipelago Toscano. La sua luce è Africana così come le sue rocce bianche e precarie. Anche le decadenti opere dell’uomo\, sgretolate da sole e salsedine richiamano al continente nero. Pianosa è un’Isola Piatta che regala una surreale dimensione di savana Africana circondata dal Mare. Isola dai contorni irreali\, che in primavera si arricchisce di fioriture mediterranee dalle infinite cromie cangianti\, che unite alle trasparenze assolute del suo mare\, rendono unica questa breve ma intensa esperienza. Respireremo silenzio\, macchia e salsedine. Ci sposteremo a piedi per percorrere le sue piatte strade bianche alla ricerca degli angoli più suggestivi e approfondirne la conoscenza camminando. \n				\n								\n						\n				\n					\n		\n				\n			\n						\n				\n							\n																			\n															\n							  \n  						\n																	\n					\n								\n				\n				\n				\n							\n																			\n															\n							  \n  						\n																	\n					\n								\n				\n				\n				\n							\n																			\n															\n							  \n  						\n																	\n					\n								\n				\n				\n				\n							\n																			\n															\n							  \n  						\n																	\n					\n								\n				\n					\n		\n					\n		\n				\n				\n							\n			\n						\n		\n						\n				\n				\n						\n					\n			\n						\n				\n							\n\n						\n				\n								\n			\n			\n						\n\n									\n						\n							PREZZO						\n					\n				\n				\n			\n			\n		\n						\n				\n				\n				\n									50€ a persona 								\n				\n					\n		\n				\n			\n						\n				\n							\n\n						\n				\n								\n			\n			\n						\n\n									\n						\n							LA QUOTA COMPRENDE						\n					\n				\n				\n			\n			\n		\n						\n				\n				\n				\n									Qualità e Privilegio e del piccolo gruppo max 8 partecipanti Guida Isolana esperta Assicurazione RC 								\n				\n					\n		\n				\n			\n						\n				\n							\n\n						\n				\n								\n			\n			\n						\n\n									\n						\n							LA QUOTA NON COMPRENDE						\n					\n				\n				\n			\n			\n		\n						\n				\n				\n				\n									Ticket passaggio barca e ingresso Parco (su richiesta) 								\n				\n					\n		\n					\n		\n				\n				\n							\n			\n						\n		\n						\n				\n				\n				\n					CONTATTI				\n				\n				\n				\n									Info e PrenotazioniMob +39 333 2653079Tel +39 0565 976707Mail: info@econauta.netwww.econauta.net in caso di condizioni meteo non adatte\, il percorso può essere modificato 								\n				\n				\n				\n					Abilita JavaScript nel browser per completare questo modulo.Nome *NomeCognomeEmail *TelefonoCommento o messaggio *Privacy Policy *AccettaDichiaro di aver letto ed accettato le norme sulla privacy di questo sito web Invia
URL:https://econauta.net/eventi/tunisia-romana-viaggio-archeologico-in-terra-dafrica-3/
LOCATION:Tunisia
CATEGORIES:Tunisia,Viaggi Nomadi
ATTACH;FMTTYPE=image/jpeg:https://econauta.net/wp-content/uploads/2021/11/001a-scaled.jpg
END:VEVENT
BEGIN:VEVENT
DTSTART;TZID=UTC:20261121T080000
DTEND;TZID=UTC:20261216T200000
DTSTAMP:20260423T203021
CREATED:20211130T075528Z
LAST-MODIFIED:20251124T180904Z
UID:2731-1795248000-1797451200@econauta.net
SUMMARY:Argentina\, Bolivia\, Perù
DESCRIPTION:  \n  						\n																	\n					\n								\n				\n					\n		\n				\n			\n						\n				\n					Camminando nell'incanto dell'isola piatta				\n				\n				\n				\n					Avvolti nell’atmosfera onirica di Pianosa\, che sempre incanta con la luce abbagliante e gli sgargianti colori e sorprende con il fascino della sua storia millenaria.				\n				\n				\n				\n							\n			\n						\n		\n						\n				\n				\n						\n					\n			\n						\n				\n							\n\n						\n				\n								\n			\n			\n						\n\n									\n						\n							SCARICA IL PROGRAMMA						\n					\n				\n				\n			\n			\n		\n						\n				\n					\n		\n				\n			\n						\n				\n							\n\n						\n				\n								\n			\n			\n						\n\n									\n						\n							CONTATTACI PER INFO						\n					\n				\n				\n			\n			\n		\n						\n				\n					\n		\n					\n		\n					\n		\n					\n		\n				\n						\n					\n			\n						\n				\n					IL PROGRAMMA				\n				\n				\n						\n					\n			\n						\n				\n							\n							\n					\n													\n															\n								\n														\n												Giornata a Pianosa con Econauta\n					\n					Pianosa è una piccola zolla d’Africa proiettata nell’Arcipelago Toscano. La sua luce è Africana così come le sue rocce bianche e precarie. Anche le decadenti opere dell’uomo\, sgretolate da sole e salsedine richiamano al continente nero. Pianosa è un’Isola Piatta che regala una surreale dimensione di savana Africana circondata dal Mare. Isola dai contorni irreali\, che in primavera si arricchisce di fioriture mediterranee dalle infinite cromie cangianti\, che unite alle trasparenze assolute del suo mare\, rendono unica questa breve ma intensa esperienza. Respireremo silenzio\, macchia e salsedine. Ci sposteremo a piedi per percorrere le sue piatte strade bianche alla ricerca degli angoli più suggestivi e approfondirne la conoscenza camminando. \n				\n								\n						\n				\n					\n		\n				\n			\n						\n				\n							\n																			\n															\n							  \n  						\n																	\n					\n								\n				\n				\n				\n							\n																			\n															\n							  \n  						\n																	\n					\n								\n				\n				\n				\n							\n																			\n															\n							  \n  						\n																	\n					\n								\n				\n				\n				\n							\n																			\n															\n							  \n  						\n																	\n					\n								\n				\n					\n		\n					\n		\n				\n				\n							\n			\n						\n		\n						\n				\n				\n						\n					\n			\n						\n				\n							\n\n						\n				\n								\n			\n			\n						\n\n									\n						\n							PREZZO						\n					\n				\n				\n			\n			\n		\n						\n				\n				\n				\n									50€ a persona 								\n				\n					\n		\n				\n			\n						\n				\n							\n\n						\n				\n								\n			\n			\n						\n\n									\n						\n							LA QUOTA COMPRENDE						\n					\n				\n				\n			\n			\n		\n						\n				\n				\n				\n									Qualità e Privilegio e del piccolo gruppo max 8 partecipanti Guida Isolana esperta Assicurazione RC 								\n				\n					\n		\n				\n			\n						\n				\n							\n\n						\n				\n								\n			\n			\n						\n\n									\n						\n							LA QUOTA NON COMPRENDE						\n					\n				\n				\n			\n			\n		\n						\n				\n				\n				\n									Ticket passaggio barca e ingresso Parco (su richiesta) 								\n				\n					\n		\n					\n		\n				\n				\n							\n			\n						\n		\n						\n				\n				\n				\n					CONTATTI				\n				\n				\n				\n									Info e PrenotazioniMob +39 333 2653079Tel +39 0565 976707Mail: info@econauta.netwww.econauta.net in caso di condizioni meteo non adatte\, il percorso può essere modificato 								\n				\n				\n				\n					Abilita JavaScript nel browser per completare questo modulo.Nome *NomeCognomeEmail *TelefonoCommento o messaggio *Privacy Policy *AccettaDichiaro di aver letto ed accettato le norme sulla privacy di questo sito web Invia
URL:https://econauta.net/eventi/argentina-bolivia-peru/
LOCATION:ARGENTINA\, BOLIVIA\, PERU’
CATEGORIES:Sud America,Trekking,Viaggi Nomadi
ATTACH;FMTTYPE=image/jpeg:https://econauta.net/wp-content/uploads/2021/11/IMG_6520-scaled.jpg
END:VEVENT
BEGIN:VEVENT
DTSTART;TZID=UTC:20261205T120000
DTEND;TZID=UTC:20261208T150000
DTSTAMP:20260423T203021
CREATED:20260213T163244Z
LAST-MODIFIED:20260213T163244Z
UID:8340-1796472000-1796742000@econauta.net
SUMMARY:ISOLA d’ELBA in BIKE 4 giorni 5 - 8 Dicembre
DESCRIPTION:  \n  						\n																	\n					\n								\n				\n					\n		\n				\n			\n						\n				\n					Camminando nell'incanto dell'isola piatta				\n				\n				\n				\n					Avvolti nell’atmosfera onirica di Pianosa\, che sempre incanta con la luce abbagliante e gli sgargianti colori e sorprende con il fascino della sua storia millenaria.				\n				\n				\n				\n							\n			\n						\n		\n						\n				\n				\n						\n					\n			\n						\n				\n							\n\n						\n				\n								\n			\n			\n						\n\n									\n						\n							SCARICA IL PROGRAMMA						\n					\n				\n				\n			\n			\n		\n						\n				\n					\n		\n				\n			\n						\n				\n							\n\n						\n				\n								\n			\n			\n						\n\n									\n						\n							CONTATTACI PER INFO						\n					\n				\n				\n			\n			\n		\n						\n				\n					\n		\n					\n		\n					\n		\n					\n		\n				\n						\n					\n			\n						\n				\n					IL PROGRAMMA				\n				\n				\n						\n					\n			\n						\n				\n							\n							\n					\n													\n															\n								\n														\n												Giornata a Pianosa con Econauta\n					\n					Pianosa è una piccola zolla d’Africa proiettata nell’Arcipelago Toscano. La sua luce è Africana così come le sue rocce bianche e precarie. Anche le decadenti opere dell’uomo\, sgretolate da sole e salsedine richiamano al continente nero. Pianosa è un’Isola Piatta che regala una surreale dimensione di savana Africana circondata dal Mare. Isola dai contorni irreali\, che in primavera si arricchisce di fioriture mediterranee dalle infinite cromie cangianti\, che unite alle trasparenze assolute del suo mare\, rendono unica questa breve ma intensa esperienza. Respireremo silenzio\, macchia e salsedine. Ci sposteremo a piedi per percorrere le sue piatte strade bianche alla ricerca degli angoli più suggestivi e approfondirne la conoscenza camminando. \n				\n								\n						\n				\n					\n		\n				\n			\n						\n				\n							\n																			\n															\n							  \n  						\n																	\n					\n								\n				\n				\n				\n							\n																			\n															\n							  \n  						\n																	\n					\n								\n				\n				\n				\n							\n																			\n															\n							  \n  						\n																	\n					\n								\n				\n				\n				\n							\n																			\n															\n							  \n  						\n																	\n					\n								\n				\n					\n		\n					\n		\n				\n				\n							\n			\n						\n		\n						\n				\n				\n						\n					\n			\n						\n				\n							\n\n						\n				\n								\n			\n			\n						\n\n									\n						\n							PREZZO						\n					\n				\n				\n			\n			\n		\n						\n				\n				\n				\n									50€ a persona 								\n				\n					\n		\n				\n			\n						\n				\n							\n\n						\n				\n								\n			\n			\n						\n\n									\n						\n							LA QUOTA COMPRENDE						\n					\n				\n				\n			\n			\n		\n						\n				\n				\n				\n									Qualità e Privilegio e del piccolo gruppo max 8 partecipanti Guida Isolana esperta Assicurazione RC 								\n				\n					\n		\n				\n			\n						\n				\n							\n\n						\n				\n								\n			\n			\n						\n\n									\n						\n							LA QUOTA NON COMPRENDE						\n					\n				\n				\n			\n			\n		\n						\n				\n				\n				\n									Ticket passaggio barca e ingresso Parco (su richiesta) 								\n				\n					\n		\n					\n		\n				\n				\n							\n			\n						\n		\n						\n				\n				\n				\n					CONTATTI				\n				\n				\n				\n									Info e PrenotazioniMob +39 333 2653079Tel +39 0565 976707Mail: info@econauta.netwww.econauta.net in caso di condizioni meteo non adatte\, il percorso può essere modificato 								\n				\n				\n				\n					Abilita JavaScript nel browser per completare questo modulo.Nome *NomeCognomeEmail *TelefonoCommento o messaggio *Privacy Policy *AccettaDichiaro di aver letto ed accettato le norme sulla privacy di questo sito web Invia
URL:https://econauta.net/eventi/isola-delba-in-bike-4-giorni-5-8-dicembre/
LOCATION:Isola d’Elba
CATEGORIES:Arcipelago Toscano,BIKE,Isola d'Elba
ATTACH;FMTTYPE=image/jpeg:https://econauta.net/wp-content/uploads/2026/01/TESTATA-e1770999719501.jpg
END:VEVENT
BEGIN:VEVENT
DTSTART;TZID=UTC:20270112T080000
DTEND;TZID=UTC:20270128T120000
DTSTAMP:20260423T203021
CREATED:20220121T095444Z
LAST-MODIFIED:20251203T133615Z
UID:4298-1799740800-1801137600@econauta.net
SUMMARY:Patagonia Maestosa\, Respiro di Libertà
DESCRIPTION:  \n  						\n																	\n					\n								\n				\n					\n		\n				\n			\n						\n				\n					Camminando nell'incanto dell'isola piatta				\n				\n				\n				\n					Avvolti nell’atmosfera onirica di Pianosa\, che sempre incanta con la luce abbagliante e gli sgargianti colori e sorprende con il fascino della sua storia millenaria.				\n				\n				\n				\n							\n			\n						\n		\n						\n				\n				\n						\n					\n			\n						\n				\n							\n\n						\n				\n								\n			\n			\n						\n\n									\n						\n							SCARICA IL PROGRAMMA						\n					\n				\n				\n			\n			\n		\n						\n				\n					\n		\n				\n			\n						\n				\n							\n\n						\n				\n								\n			\n			\n						\n\n									\n						\n							CONTATTACI PER INFO						\n					\n				\n				\n			\n			\n		\n						\n				\n					\n		\n					\n		\n					\n		\n					\n		\n				\n						\n					\n			\n						\n				\n					IL PROGRAMMA				\n				\n				\n						\n					\n			\n						\n				\n							\n							\n					\n													\n															\n								\n														\n												Giornata a Pianosa con Econauta\n					\n					Pianosa è una piccola zolla d’Africa proiettata nell’Arcipelago Toscano. La sua luce è Africana così come le sue rocce bianche e precarie. Anche le decadenti opere dell’uomo\, sgretolate da sole e salsedine richiamano al continente nero. Pianosa è un’Isola Piatta che regala una surreale dimensione di savana Africana circondata dal Mare. Isola dai contorni irreali\, che in primavera si arricchisce di fioriture mediterranee dalle infinite cromie cangianti\, che unite alle trasparenze assolute del suo mare\, rendono unica questa breve ma intensa esperienza. Respireremo silenzio\, macchia e salsedine. Ci sposteremo a piedi per percorrere le sue piatte strade bianche alla ricerca degli angoli più suggestivi e approfondirne la conoscenza camminando. \n				\n								\n						\n				\n					\n		\n				\n			\n						\n				\n							\n																			\n															\n							  \n  						\n																	\n					\n								\n				\n				\n				\n							\n																			\n															\n							  \n  						\n																	\n					\n								\n				\n				\n				\n							\n																			\n															\n							  \n  						\n																	\n					\n								\n				\n				\n				\n							\n																			\n															\n							  \n  						\n																	\n					\n								\n				\n					\n		\n					\n		\n				\n				\n							\n			\n						\n		\n						\n				\n				\n						\n					\n			\n						\n				\n							\n\n						\n				\n								\n			\n			\n						\n\n									\n						\n							PREZZO						\n					\n				\n				\n			\n			\n		\n						\n				\n				\n				\n									50€ a persona 								\n				\n					\n		\n				\n			\n						\n				\n							\n\n						\n				\n								\n			\n			\n						\n\n									\n						\n							LA QUOTA COMPRENDE						\n					\n				\n				\n			\n			\n		\n						\n				\n				\n				\n									Qualità e Privilegio e del piccolo gruppo max 8 partecipanti Guida Isolana esperta Assicurazione RC 								\n				\n					\n		\n				\n			\n						\n				\n							\n\n						\n				\n								\n			\n			\n						\n\n									\n						\n							LA QUOTA NON COMPRENDE						\n					\n				\n				\n			\n			\n		\n						\n				\n				\n				\n									Ticket passaggio barca e ingresso Parco (su richiesta) 								\n				\n					\n		\n					\n		\n				\n				\n							\n			\n						\n		\n						\n				\n				\n				\n					CONTATTI				\n				\n				\n				\n									Info e PrenotazioniMob +39 333 2653079Tel +39 0565 976707Mail: info@econauta.netwww.econauta.net in caso di condizioni meteo non adatte\, il percorso può essere modificato 								\n				\n				\n				\n					Abilita JavaScript nel browser per completare questo modulo.Nome *NomeCognomeEmail *TelefonoCommento o messaggio *Privacy Policy *AccettaDichiaro di aver letto ed accettato le norme sulla privacy di questo sito web Invia
URL:https://econauta.net/eventi/patagonia-maestosa-respiro-di-liberta/
LOCATION:Patagonia
CATEGORIES:Patagonia,Viaggi Nomadi
ATTACH;FMTTYPE=image/jpeg:https://econauta.net/wp-content/uploads/2022/01/IMG_7215-scaled.jpg
END:VEVENT
BEGIN:VEVENT
DTSTART;TZID=UTC:20270131T080000
DTEND;TZID=UTC:20270217T120000
DTSTAMP:20260423T203021
CREATED:20240319T154328Z
LAST-MODIFIED:20251203T134501Z
UID:6333-1801382400-1802865600@econauta.net
SUMMARY:Viaggio alla "Fine del Mondo" - Patagonia e Terra del Fuoco
DESCRIPTION:  \n  						\n																	\n					\n								\n				\n					\n		\n				\n			\n						\n				\n					Camminando nell'incanto dell'isola piatta				\n				\n				\n				\n					Avvolti nell’atmosfera onirica di Pianosa\, che sempre incanta con la luce abbagliante e gli sgargianti colori e sorprende con il fascino della sua storia millenaria.				\n				\n				\n				\n							\n			\n						\n		\n						\n				\n				\n						\n					\n			\n						\n				\n							\n\n						\n				\n								\n			\n			\n						\n\n									\n						\n							SCARICA IL PROGRAMMA						\n					\n				\n				\n			\n			\n		\n						\n				\n					\n		\n				\n			\n						\n				\n							\n\n						\n				\n								\n			\n			\n						\n\n									\n						\n							CONTATTACI PER INFO						\n					\n				\n				\n			\n			\n		\n						\n				\n					\n		\n					\n		\n					\n		\n					\n		\n				\n						\n					\n			\n						\n				\n					IL PROGRAMMA				\n				\n				\n						\n					\n			\n						\n				\n							\n							\n					\n													\n															\n								\n														\n												Giornata a Pianosa con Econauta\n					\n					Pianosa è una piccola zolla d’Africa proiettata nell’Arcipelago Toscano. La sua luce è Africana così come le sue rocce bianche e precarie. Anche le decadenti opere dell’uomo\, sgretolate da sole e salsedine richiamano al continente nero. Pianosa è un’Isola Piatta che regala una surreale dimensione di savana Africana circondata dal Mare. Isola dai contorni irreali\, che in primavera si arricchisce di fioriture mediterranee dalle infinite cromie cangianti\, che unite alle trasparenze assolute del suo mare\, rendono unica questa breve ma intensa esperienza. Respireremo silenzio\, macchia e salsedine. Ci sposteremo a piedi per percorrere le sue piatte strade bianche alla ricerca degli angoli più suggestivi e approfondirne la conoscenza camminando. \n				\n								\n						\n				\n					\n		\n				\n			\n						\n				\n							\n																			\n															\n							  \n  						\n																	\n					\n								\n				\n				\n				\n							\n																			\n															\n							  \n  						\n																	\n					\n								\n				\n				\n				\n							\n																			\n															\n							  \n  						\n																	\n					\n								\n				\n				\n				\n							\n																			\n															\n							  \n  						\n																	\n					\n								\n				\n					\n		\n					\n		\n				\n				\n							\n			\n						\n		\n						\n				\n				\n						\n					\n			\n						\n				\n							\n\n						\n				\n								\n			\n			\n						\n\n									\n						\n							PREZZO						\n					\n				\n				\n			\n			\n		\n						\n				\n				\n				\n									50€ a persona 								\n				\n					\n		\n				\n			\n						\n				\n							\n\n						\n				\n								\n			\n			\n						\n\n									\n						\n							LA QUOTA COMPRENDE						\n					\n				\n				\n			\n			\n		\n						\n				\n				\n				\n									Qualità e Privilegio e del piccolo gruppo max 8 partecipanti Guida Isolana esperta Assicurazione RC 								\n				\n					\n		\n				\n			\n						\n				\n							\n\n						\n				\n								\n			\n			\n						\n\n									\n						\n							LA QUOTA NON COMPRENDE						\n					\n				\n				\n			\n			\n		\n						\n				\n				\n				\n									Ticket passaggio barca e ingresso Parco (su richiesta) 								\n				\n					\n		\n					\n		\n				\n				\n							\n			\n						\n		\n						\n				\n				\n				\n					CONTATTI				\n				\n				\n				\n									Info e PrenotazioniMob +39 333 2653079Tel +39 0565 976707Mail: info@econauta.netwww.econauta.net in caso di condizioni meteo non adatte\, il percorso può essere modificato 								\n				\n				\n				\n					Abilita JavaScript nel browser per completare questo modulo.Nome *NomeCognomeEmail *TelefonoCommento o messaggio *Privacy Policy *AccettaDichiaro di aver letto ed accettato le norme sulla privacy di questo sito web Invia
URL:https://econauta.net/eventi/viaggio-alla-fine-del-mondo-patagonia-e-terra-del-fuoco-2/
LOCATION:Patagonia e Terra del Fuoco
CATEGORIES:Patagonia,Trekking,Viaggi Nomadi
ATTACH;FMTTYPE=image/jpeg:https://econauta.net/wp-content/uploads/2021/11/IMG_4470.jpg
END:VEVENT
END:VCALENDAR