BEGIN:VCALENDAR
VERSION:2.0
PRODID:-//Econauta - ECPv6.13.2.1//NONSGML v1.0//EN
CALSCALE:GREGORIAN
METHOD:PUBLISH
X-WR-CALNAME:Econauta
X-ORIGINAL-URL:https://econauta.net
X-WR-CALDESC:Eventi per Econauta
REFRESH-INTERVAL;VALUE=DURATION:PT1H
X-Robots-Tag:noindex
X-PUBLISHED-TTL:PT1H
BEGIN:VTIMEZONE
TZID:UTC
BEGIN:STANDARD
TZOFFSETFROM:+0000
TZOFFSETTO:+0000
TZNAME:UTC
DTSTART:20190101T000000
END:STANDARD
END:VTIMEZONE
BEGIN:VEVENT
DTSTART;TZID=UTC:20191012T180000
DTEND;TZID=UTC:20191019T100000
DTSTAMP:20260422T101848
CREATED:20211129T192311Z
LAST-MODIFIED:20250315T185459Z
UID:2660-1570903200-1571479200@econauta.net
SUMMARY:Tunisia Romana\, Viaggio Archeologico in Terra d'Africa
DESCRIPTION:« Tutti gli Eventi\n 				\n				\n				\n				\n					Questo evento è passato. \n				\n				\n				\n				\n					\n	The Events Calendar – Starter				\n				\n				\n				\n					\n		\n			22 Aprile\n\n	\n\n	   \n\n\n10:18 am\n\n			\n				\n				\n				\n						\n					\n			\n							\n		\n				\n			\n							\n		\n					\n		\n				\n						\n					\n			\n							\n		\n					\n		\n				\n						\n					\n			\n						\n				\n					\n	\n		\n\n	\n	Salva nel tuo calendario	\n		\n	\n\n		\n			\n									\n	Google Calendar\n\n									\n	iCalendar\n\n									\n	Outlook 365\n\n									\n	Outlook Live
URL:https://econauta.net/eventi/tunisia-romana-viaggio-archeologico-in-terra-dafrica/
LOCATION:Tunisia
CATEGORIES:Tunisia,Viaggi Nomadi
ATTACH;FMTTYPE=image/jpeg:https://econauta.net/wp-content/uploads/2021/11/001a-scaled.jpg
END:VEVENT
END:VCALENDAR